Workbook

Sheet RUG Rates
C1: Marketbasket year
A2: CPI Marketbasket | D2: 0.0294 | E2: 0.051 | F2: 0.064 | G2: 0.042 | H2: 0.032 | K2: =C1 & " percent" -> Marketbasket year percent
A3: PDPMCODE | B3: CBSA | C3: 2021 | D3: 2022 | E3: 2023 | F3: 2024 | G3: 2025 | H3: 2026 | K3: 2024 | L3: 2025 | M3: 2026
A4: BA1 | B4: 00000 | C4: 213.59 | D4: 226.91 | E4: 238.48 | F4: =ROUND(E4*(1+F$2),2) -> 253.74 | G4: =ROUND(F4*(1+G$2),2) -> 264.4 | H4: =ROUND(G4*(1+H$2),2) -> 272.86 | K4: =F4/E4 -> 1.0639886 | L4: =G4/F4 -> 1.0420115 | M4: =H4/G4 -> 1.031997
A5: BA1 | B5: 30860 | C5: 221.01 | D5: 233.91 | E5: 245.84 | F5: =ROUND(E5*(1+F$2),2) -> 261.57 | G5: =ROUND(F5*(1+G$2),2) -> 272.56 | H5: =ROUND(G5*(1+H$2),2) -> 281.28 | K5: =F5/E5 -> 1.0639847 | L5: =G5/F5 -> 1.0420155 | M5: =H5/G5 -> 1.031993
A6: BA1 | B6: 36260 | C6: 219.92 | D6: 229.86 | E6: 241.58 | F6: =ROUND(E6*(1+F$2),2) -> 257.04 | G6: =ROUND(F6*(1+G$2),2) -> 267.84 | H6: =ROUND(G6*(1+H$2),2) -> 276.41 | K6: =F6/E6 -> 1.0639954 | L6: =G6/F6 -> 1.0420168 | M6: =H6/G6 -> 1.0319967
A7: BA1 | B7: 39340 | C7: 226.32 | D7: 236.24 | E7: 248.29 | F7: =ROUND(E7*(1+F$2),2) -> 264.18 | G7: =ROUND(F7*(1+G$2),2) -> 275.28 | H7: =ROUND(G7*(1+H$2),2) -> 284.09 | K7: =F7/E7 -> 1.0639977 | L7: =G7/F7 -> 1.0420168 | M7: =H7/G7 -> 1.0320038
A8: BA1 | B8: 41100 | C8: 226.51 | D8: 239.39 | E8: 251.6 | F8: =ROUND(E8*(1+F$2),2) -> 267.7 | G8: =ROUND(F8*(1+G$2),2) -> 278.94 | H8: =ROUND(G8*(1+H$2),2) -> 287.87 | K8: =F8/E8 -> 1.0639905 | L8: =G8/F8 -> 1.0419873 | M8: =H8/G8 -> 1.0320141
A9: BA1 | B9: 41620 | C9: 232.89 | D9: 239.75 | E9: 251.98 | F9: =ROUND(E9*(1+F$2),2) -> 268.11 | G9: =ROUND(F9*(1+G$2),2) -> 279.37 | H9: =ROUND(G9*(1+H$2),2) -> 288.31 | K9: =F9/E9 -> 1.064013 | L9: =G9/F9 -> 1.0419977 | M9: =H9/G9 -> 1.0320006
A10: BA2 | B10: 00000 | C10: 223.49 | D10: 237.43 | E10: 249.54 | F10: =ROUND(E10*(1+F$2),2) -> 265.51 | G10: =ROUND(F10*(1+G$2),2) -> 276.66 | H10: =ROUND(G10*(1+H$2),2) -> 285.51 | K10: =F10/E10 -> 1.0639978 | L10: =G10/F10 -> 1.0419947 | M10: =H10/G10 -> 1.0319887
A11: BA2 | B11: 30860 | C11: 231.62 | D11: 245.14 | E11: 257.64 | F11: =ROUND(E11*(1+F$2),2) -> 274.13 | G11: =ROUND(F11*(1+G$2),2) -> 285.64 | H11: =ROUND(G11*(1+H$2),2) -> 294.78 | K11: =F11/E11 -> 1.064004 | L11: =G11/F11 -> 1.0419874 | M11: =H11/G11 -> 1.0319983
A12: BA2 | B12: 36260 | C12: 230.49 | D12: 240.89 | E12: 253.18 | F12: =ROUND(E12*(1+F$2),2) -> 269.38 | G12: =ROUND(F12*(1+G$2),2) -> 280.69 | H12: =ROUND(G12*(1+H$2),2) -> 289.67 | K12: =F12/E12 -> 1.0639861 | L12: =G12/F12 -> 1.0419853 | M12: =H12/G12 -> 1.0319926
A13: BA2 | B13: 39340 | C13: 237.2 | D13: 247.59 | E13: 260.22 | F13: =ROUND(E13*(1+F$2),2) -> 276.87 | G13: =ROUND(F13*(1+G$2),2) -> 288.5 | H13: =ROUND(G13*(1+H$2),2) -> 297.73 | K13: =F13/E13 -> 1.0639843 | L13: =G13/F13 -> 1.0420053 | M13: =H13/G13 -> 1.0319931
A14: BA2 | B14: 41100 | C14: 237.39 | D14: 250.88 | E14: 263.67 | F14: =ROUND(E14*(1+F$2),2) -> 280.54 | G14: =ROUND(F14*(1+G$2),2) -> 292.32 | H14: =ROUND(G14*(1+H$2),2) -> 301.67 | K14: =F14/E14 -> 1.0639815 | L14: =G14/F14 -> 1.0419904 | M14: =H14/G14 -> 1.0319855
A15: BA2 | B15: 41620 | C15: 244.08 | D15: 251.26 | E15: 264.07 | F15: =ROUND(E15*(1+F$2),2) -> 280.97 | G15: =ROUND(F15*(1+G$2),2) -> 292.77 | H15: =ROUND(G15*(1+H$2),2) -> 302.14 | K15: =F15/E15 -> 1.0639982 | L15: =G15/F15 -> 1.0419974 | M15: =H15/G15 -> 1.0320046
... A399: RVX | B399: 41620 | C399: 761.28 | D399: 783.65 | E399: 823.62 | F399: =ROUND(E399*(1+F$2),2) -> 876.33 | G399: =ROUND(F399*(1+G$2),2) -> 913.14 | H399: =ROUND(G399*(1+H$2),2) -> 942.36 | K399: =F399/E399 -> 1.063998 | L399: =G399/F399 -> 1.0420047 | M399: =H399/G399 -> 1.0319995

Sheet Incorrect RUG Rates
A1: CPI Marketbasket | D1: Marketbasket year | E1: 0.0294 | F1: 0.051 | G1: 0.064
A2: PDPMCODE | B2: CBSA | C2: Combined | D2: 2021 | E2: 2022 | F2: 2023 | G2: 2024 | I2: RUG | J2: Incorrect 2024
A3: BA1 | B3: 41620 | C3: BA141620 | D3: 232.89 | E3: 239.75 | F3: 251.98 | G3: 268.11 | I3: BA1 | J3: 701.89
A4: BA2 | B4: 41620 | C4: BA241620 | D4: 244.08 | E4: 251.26 | F4: 264.07 | G4: 280.97
A5: BB1 | B5: 41620 | C5: BB141620 | D5: 281.36 | E5: 289.63 | F5: 304.4 | G5: 323.88 | I5: BB1 | J5: 472.38
A6: BB2 | B6: 41620 | C6: BB241620 | D6: 294.41 | E6: 303.05 | F6: 318.51 | G6: 338.89
A7: CA1 | B7: 41620 | C7: CA141620 | D7: 258.99 | E7: 266.61 | F7: 280.21 | G7: 298.14 | I7: CA1 | J7: 364.86
A8: CA2 | B8: 41620 | C8: CA241620 | D8: 277.63 | E8: 285.8 | F8: 300.38 | G8: 319.6 | I8: CA2 | J8: 616.42
A9: CB1 | B9: 41620 | C9: CB141620 | D9: 303.72 | E9: 312.64 | F9: 328.58 | G9: 349.61 | I9: CB1 | J9: 459.28
A10: CB2 | B10: 41620 | C10: CB241620 | D10: 327.95 | E10: 337.59 | F10: 354.81 | G10: 377.52 | I10: CB2 | J10: 295.94
A11: CC1 | B11: 41620 | C11: CC141620 | D11: 327.95 | E11: 337.59 | F11: 354.81 | G11: 377.52 | I11: CC1 | J11: 765.16
A12: CC2 | B12: 41620 | C12: CC241620 | D12: 354.05 | E12: 364.46 | F12: 383.05 | G12: 407.57 | I12: CC2 | J12: 682.45
A13: CD1 | B13: 41620 | C13: CD141620 | D13: 370.82 | E13: 381.73 | F13: 401.2 | G13: 426.88 | I13: CD1 | J13: 537.72
A14: CD2 | B14: 41620 | C14: CD241620 | D14: 404.37 | E14: 416.26 | F14: 437.49 | G14: 465.49 | I14: CD2 | J14: 483.96
A15: CE1 | B15: 41620 | C15: CE141620 | D15: 393.18 | E15: 404.75 | F15: 425.39 | G15: 452.61 | I15: CE1 | J15: 426.07
A16: CE2 | B16: 41620 | C16: CE241620 | D16: 426.73 | E16: 439.28 | F16: 461.68 | G16: 491.23
A17: ES1 | B17: 41620 | C17: ES141620 | D17: 546.02 | E17: 562.07 | F17: 590.74 | G17: 628.55 | I17: ES1 | J17: 361.75
A18: ES2 | B18: 41620 | C18: ES241620 | D18: 611.25 | E18: 629.22 | F18: 661.31 | G18: 703.63 | I18: ES2 | J18: 585.05
A19: ES3 | B19: 41620 | C19: ES341620 | D19: 780.86 | E19: 803.81 | F19: 844.8 | G19: 898.87 | I19: ES3 | J19: 485.81
A20: HB1 | B20: 41620 | C20: HB141620 | D20: 385.73 | E20: 397.07 | F20: 417.32 | G20: 444.03 | I20: HB1 | J20: 237.69
A21: HB2 | B21: 41620 | C21: HB241620 | D21: 460.28 | E21: 473.81 | F21: 497.97 | G21: 529.84 | I21: HB2 | J21: 531.29
A22: HC1 | B22: 41620 | C22: HC141620 | D22: 389.45 | E22: 400.9 | F22: 421.35 | G22: 448.32 | I22: HC1 | J22: 444.45
A23: HC2 | B23: 41620 | C23: HC241620 | D23: 465.88 | E23: 479.56 | F23: 504.02 | G23: 536.28 | I23: HC2 | J23: 510.62
A24: HD1 | B24: 41620 | C24: HD141620 | D24: 411.83 | E24: 423.93 | F24: 445.55 | G24: 474.07
A25: HD2 | B25: 41620 | C25: HD241620 | D25: 493.83 | E25: 508.35 | F25: 534.28 | G25: 568.47 | I25: HD2 | J25: 448.59
A26: HE1 | B26: 41620 | C26: HE141620 | D26: 437.92 | E26: 450.79 | F26: 473.78 | G26: 504.1
A27: HE2 | B27: 41620 | C27: HE241620 | D27: 527.38 | E27: 542.88 | F27: 570.57 | G27: 607.09
A28: LB1 | B28: 41620 | C28: LB141620 | D28: 326.09 | E28: 335.68 | F28: 352.8 | G28: 375.38 | I28: LB1 | J28: 415.51
A29: LB2 | B29: 41620 | C29: LB241620 | D29: 383.87 | E29: 395.15 | F29: 415.3 | G29: 441.88
A30: LC1 | B30: 41620 | C30: LC141620 | D30: 341 | E30: 351.02 | F30: 368.92 | G30: 392.53 | I30: LC1 | J30: 390.69
A31: LC2 | B31: 41620 | C31: LC241620 | D31: 404.37 | E31: 416.26 | F31: 437.49 | G31: 465.49 | I31: LC2 | J31: 353.48
A32: LD1 | B32: 41620 | C32: LD141620 | D32: 385.73 | E32: 397.07 | F32: 417.32 | G32: 444.03 | I32: LD1 | J32: 336.94
A33: LD2 | B33: 41620 | C33: LD241620 | D33: 460.28 | E33: 473.81 | F33: 497.97 | G33: 529.84
A34: LE1 | B34: 41620 | C34: LE141620 | D34: 400.64 | E34: 412.42 | F34: 433.45 | G34: 461.19
A35: LE2 | B35: 41620 | C35: LE241620 | D35: 478.92 | E35: 493 | F35: 518.14 | G35: 551.3
A36: PA1 | B36: 41620 | C36: PA141620 | D36: 214.26 | E36: 220.56 | F36: 231.81 | G36: 246.65 | I36: PA1 | J36: 844.53
A37: PA2 | B37: 41620 | C37: PA241620 | D37: 223.58 | E37: 230.15 | F37: 241.89 | G37: 257.37
A38: PB1 | B38: 41620 | C38: PB141620 | D38: 258.99 | E38: 266.61 | F38: 280.21 | G38: 298.14 | I38: PB1 | J38: 617.09
A39: PB2 | B39: 41620 | C39: PB241620 | D39: 270.18 | E39: 278.12 | F39: 292.3 | G39: 311.01 | I39: PB2 | J39: 534.38
A40: PC1 | B40: 41620 | C40: PC141620 | D40: 303.72 | E40: 312.64 | F40: 328.58 | G40: 349.61 | I40: PC1 | J40: 532.32
...

Sheet EdRates
A1: PDPMCODE | B1: CBSA | C1: Combined | D1: 2024 | E1: Lookup | F1: CorrectRate | G1: %Off | I1: From Test.NFUPL_RUGIV | J1: PDPMCODE | K1: CBSA | L1: BeginDate | M1: EndDate | N1: PDPMRATE | O1: PDPMRATEROUNDED | P1: SFY | Q1: DataSFY
A2: BA1 | B2: 00000 | C2: =A2&B2 -> BA100000 | D2: 0 | E2: =IFERROR(GETPIVOTDATA("Min of CalcRate",PivotSingleRUG!$A$3,"CBSA",B2,"RUG",A2),D2) -> 0 | F2: =IFERROR(IF(D2=0,0,VLOOKUP(EdRates!C2,'RUG Rates'!C:F,5,FALSE)),0) -> 0 | G2: =IFERROR(IF(D2=0,"",(F2-D2)/F2),"") | J2: HB1 | K2: 41620 | L2: 45566 | M2: 45565 | N2: 237.68912 | O2: 237.69 | P2: 2024 | Q2: 2023 | R2: 268.11 | S2: =R2/O2-1 -> 0.12798183
A3: BA1 | B3: 30860 | C3: =A3&B3 -> BA130860 | D3: 0 | E3: =IFERROR(GETPIVOTDATA("Min of CalcRate",PivotSingleRUG!$A$3,"CBSA",B3,"RUG",A3),D3) -> 0 | F3: =IFERROR(IF(D3=0,0,VLOOKUP(EdRates!C3,'RUG Rates'!C:F,5,FALSE)),0) -> 0 | G3: =IFERROR(IF(D3=0,"",(F3-D3)/F3),"") | J3: LE2 | K3: 41620 | L3: 45566 | M3: 45565 | N3: 248.02731 | O3: 248.03 | P3: 2024 | Q3: 2023 | R3: 246.65 | S3: =R3/O3-1 -> -0.0055638431
A4: BA1 | B4: 36260 | C4: =A4&B4 -> BA136260 | D4: 253.44 | E4: =IFERROR(GETPIVOTDATA("Min of CalcRate",PivotSingleRUG!$A$3,"CBSA",B4,"RUG",A4),D4) -> 253.44 | F4: =IFERROR(IF(D4=0,0,VLOOKUP(EdRates!C4,'RUG Rates'!C:F,5,FALSE)),0) -> 0 | G4: =IFERROR(IF(D4=0,"",(F4-D4)/F4),"") | J4: RUX | K4: 41620 | L4: 45566 | M4: 45565 | N4: 258.36551 | O4: 258.37 | P4: 2024 | Q4: 2023 | R4: 257.37 | S4: =R4/O4-1 -> -0.0038704184
A5: BA1 | B5: 39340 | C5: =A5&B5 -> BA139340 | D5: 256.57 | E5: =IFERROR(GETPIVOTDATA("Min of CalcRate",PivotSingleRUG!$A$3,"CBSA",B5,"RUG",A5),D5) -> 256.57 | F5: =IFERROR(IF(D5=0,0,VLOOKUP(EdRates!C5,'RUG Rates'!C:F,5,FALSE)),0) -> 0 | G5: =IFERROR(IF(D5=0,"",(F5-D5)/F5),"") | J5: RUL | K5: 41620 | L5: 45566 | M5: 45565 | N5: 270.77134 | O5: 270.77 | P5: 2024 | Q5: 2023 | R5: 280.97 | S5: =R5/O5-1 -> 0.037670348
A6: BA1 | B6: 41100 | C6: =A6&B6 -> BA141100 | D6: 258.37 | E6: =IFERROR(GETPIVOTDATA("Min of CalcRate",PivotSingleRUG!$A$3,"CBSA",B6,"RUG",A6),D6) -> 258.37 | F6: =IFERROR(IF(D6=0,0,VLOOKUP(EdRates!C6,'RUG Rates'!C:F,5,FALSE)),0) -> 0 | G6: =IFERROR(IF(D6=0,"",(F6-D6)/F6),"") | J6: LE1 | K6: 41620 | L6: 45566 | M6: 45565 | N6: 287.31245 | O6: 287.31 | P6: 2024 | Q6: 2023 | R6: 298.14 | S6: =R6/O6-1 -> 0.037694476
A7: BA1 | B7: 41620 | C7: =A7&B7 -> BA141620 | D7: 701.89 | E7: =IFERROR(GETPIVOTDATA("Min of CalcRate",PivotSingleRUG!$A$3,"CBSA",B7,"RUG",A7),D7) -> 701.89 | F7: =IFERROR(IF(D7=0,0,VLOOKUP(EdRates!C7,'RUG Rates'!C:F,5,FALSE)),0) -> 0 | G7: =IFERROR(IF(D7=0,"",(F7-D7)/F7),"") | J7: RHX | K7: 41620 | L7: 45566 | M7: 45565 | N7: 287.31245 | O7: 287.31 | P7: 2024 | Q7: 2023 | R7: 298.14 | S7: =R7/O7-1 -> 0.037694476
A8: BA2 | B8: 00000 | C8: =A8&B8 -> BA200000 | D8: 0 | E8: =IFERROR(GETPIVOTDATA("Min of CalcRate",PivotSingleRUG!$A$3,"CBSA",B8,"RUG",A8),D8) -> 0 | F8: =IFERROR(IF(D8=0,0,VLOOKUP(EdRates!C8,'RUG Rates'!C:F,5,FALSE)),0) -> 0 | G8: =IFERROR(IF(D8=0,"",(F8-D8)/F8),"") | J8: CB2 | K8: 41620 | L8: 45566 | M8: 45565 | N8: 295.9354 | O8: 295.94 | P8: 2024 | Q8: 2023 | R8: 307.09 | S8: =R8/O8-1 -> 0.037676556
A9: BA2 | B9: 30860 | C9: =A9&B9 -> BA230860 | D9: 0 | E9: =IFERROR(GETPIVOTDATA("Min of CalcRate",PivotSingleRUG!$A$3,"CBSA",B9,"RUG",A9),D9) -> 0 | F9: =IFERROR(IF(D9=0,0,VLOOKUP(EdRates!C9,'RUG Rates'!C:F,5,FALSE)),0) -> 0 | G9: =IFERROR(IF(D9=0,"",(F9-D9)/F9),"") | J9: LD2 | K9: 41620 | L9: 45566 | M9: 45565 | N9: 299.71829 | O9: 299.72 | P9: 2024 | Q9: 2023 | R9: 311.01 | S9: =R9/O9-1 -> 0.037668491
A10: BA2 | B10: 36260 | C10: =A10&B10 -> BA236260 | D10: 0 | E10: =IFERROR(GETPIVOTDATA("Min of CalcRate",PivotSingleRUG!$A$3,"CBSA",B10,"RUG",A10),D10) -> 0 | F10: =IFERROR(IF(D10=0,0,VLOOKUP(EdRates!C10,'RUG Rates'!C:F,5,FALSE)),0) -> 0 | G10: =IFERROR(IF(D10=0,"",(F10-D10)/F10),"") | J10: RHL | K10: 41620 | L10: 45566 | M10: 45565 | N10: 307.98884 | O10: 307.99 | P10: 2024 | Q10: 2023 | R10: 319.6 | S10: =R10/O10-1 -> 0.037696029
A11: BA2 | B11: 39340 | C11: =A11&B11 -> BA239340 | D11: 0 | E11: =IFERROR(GETPIVOTDATA("Min of CalcRate",PivotSingleRUG!$A$3,"CBSA",B11,"RUG",A11),D11) -> 0 | F11: =IFERROR(IF(D11=0,0,VLOOKUP(EdRates!C11,'RUG Rates'!C:F,5,FALSE)),0) -> 0 | G11: =IFERROR(IF(D11=0,"",(F11-D11)/F11),"") | J11: RVX | K11: 41620 | L11: 45566 | M11: 45565 | N11: 312.12412 | O11: 312.12 | P11: 2024 | Q11: 2023 | R11: 323.88 | S11: =R11/O11-1 -> 0.037677816
A12: BA2 | B12: 41100 | C12: =A12&B12 -> BA241100 | D12: 0 | E12: =IFERROR(GETPIVOTDATA("Min of CalcRate",PivotSingleRUG!$A$3,"CBSA",B12,"RUG",A12),D12) -> 0 | F12: =IFERROR(IF(D12=0,0,VLOOKUP(EdRates!C12,'RUG Rates'!C:F,5,FALSE)),0) -> 0 | G12: =IFERROR(IF(D12=0,"",(F12-D12)/F12),"") | J12: RVL | K12: 41620 | L12: 45566 | M12: 45565 | N12: 326.59759 | O12: 326.6 | P12: 2024 | Q12: 2023 | R12: 338.89 | S12: =R12/O12-1 -> 0.037630129
A13: BA2 | B13: 41620 | C13: =A13&B13 -> BA241620 | D13: 0 | E13: =IFERROR(GETPIVOTDATA("Min of CalcRate",PivotSingleRUG!$A$3,"CBSA",B13,"RUG",A13),D13) -> 0 | F13: =IFERROR(IF(D13=0,0,VLOOKUP(EdRates!C13,'RUG Rates'!C:F,5,FALSE)),0) -> 0 | G13: =IFERROR(IF(D13=0,"",(F13-D13)/F13),"") | J13: LD1 | K13: 41620 | L13: 45566 | M13: 45565 | N13: 336.93578 | O13: 336.94 | P13: 2024 | Q13: 2023 | R13: 349.61 | S13: =R13/O13-1 -> 0.037603134
... A67: CD1 | B67: 41620 | C67: =A67&B67 -> CD141620 | D67: 537.72 | E67: =IFERROR(GETPIVOTDATA("Min of CalcRate",PivotSingleRUG!$A$3,"CBSA",B67,"RUG",A67),D67) -> 537.72 | F67: =IFERROR(IF(D67=0,0,VLOOKUP(EdRates!C67,'RUG Rates'!C:F,5,FALSE)),0) -> 0 | G67: =IFERROR(IF(D67=0,"",(F67-D67)/F67),"") | J67: PC2 | K67: 41620 | L67: 45566 | M67: 45565 | N67: 948.82812 | O67: 948.83 | P67: 2024 | Q67: 2023 | R67: 984.55 | S67: =R67/O67-1 -> 0.037646364
A68: CD2 | B68: 00000 | C68: =A68&B68 -> CD200000 | D68: 0 | E68: =IFERROR(GETPIVOTDATA("Min of CalcRate",PivotSingleRUG!$A$3,"CBSA",B68,"RUG",A68),D68) -> 0 | F68: =IFERROR(IF(D68=0,0,VLOOKUP(EdRates!C68,'RUG Rates'!C:F,5,FALSE)),0) -> 0 | G68: =IFERROR(IF(D68=0,"",(F68-D68)/F68),"")
A69: CD2 | B69: 30860 | C69: =A69&B69 -> CD230860 | D69: 0 | E69: =IFERROR(GETPIVOTDATA("Min of CalcRate",PivotSingleRUG!$A$3,"CBSA",B69,"RUG",A69),D69) -> 0 | F69: =IFERROR(IF(D69=0,0,VLOOKUP(EdRates!C69,'RUG Rates'!C:F,5,FALSE)),0) -> 0 | G69: =IFERROR(IF(D69=0,"",(F69-D69)/F69),"")
A70: CD2 | B70: 36260 | C70: =A70&B70 -> CD236260 | D70: 0 | E70: =IFERROR(GETPIVOTDATA("Min of CalcRate",PivotSingleRUG!$A$3,"CBSA",B70,"RUG",A70),D70) -> 0 | F70: =IFERROR(IF(D70=0,0,VLOOKUP(EdRates!C70,'RUG Rates'!C:F,5,FALSE)),0) -> 0 | G70: =IFERROR(IF(D70=0,"",(F70-D70)/F70),"")
A71: CD2 | B71: 39340 | C71: =A71&B71 -> CD239340 | D71: 0 | E71: =IFERROR(GETPIVOTDATA("Min of CalcRate",PivotSingleRUG!$A$3,"CBSA",B71,"RUG",A71),D71) -> 0 | F71: =IFERROR(IF(D71=0,0,VLOOKUP(EdRates!C71,'RUG Rates'!C:F,5,FALSE)),0) -> 0 | G71: =IFERROR(IF(D71=0,"",(F71-D71)/F71),"")
A72: CD2 | B72: 41100 | C72: =A72&B72 -> CD241100 | D72: 0 | E72: =IFERROR(GETPIVOTDATA("Min of CalcRate",PivotSingleRUG!$A$3,"CBSA",B72,"RUG",A72),D72) -> 0 | F72: =IFERROR(IF(D72=0,0,VLOOKUP(EdRates!C72,'RUG Rates'!C:F,5,FALSE)),0) -> 0 | G72: =IFERROR(IF(D72=0,"",(F72-D72)/F72),"")
A73: CD2 | B73: 41620 | C73: =A73&B73 -> CD241620 | D73: 483.96 | E73: =IFERROR(GETPIVOTDATA("Min of CalcRate",PivotSingleRUG!$A$3,"CBSA",B73,"RUG",A73),D73) -> 483.96 | F73: =IFERROR(IF(D73=0,0,VLOOKUP(EdRates!C73,'RUG Rates'!C:F,5,FALSE)),0) -> 0 | G73: =IFERROR(IF(D73=0,"",(F73-D73)/F73),"")
A74: CE1 | B74: 00000 | C74: =A74&B74 -> CE100000 | D74: 0 | E74: =IFERROR(GETPIVOTDATA("Min of CalcRate",PivotSingleRUG!$A$3,"CBSA",B74,"RUG",A74),D74) -> 0 | F74: =IFERROR(IF(D74=0,0,VLOOKUP(EdRates!C74,'RUG Rates'!C:F,5,FALSE)),0) -> 0 | G74: =IFERROR(IF(D74=0,"",(F74-D74)/F74),"")
A75: CE1 | B75: 30860 | C75: =A75&B75 -> CE130860 | D75: 0 | E75: =IFERROR(GETPIVOTDATA("Min of CalcRate",PivotSingleRUG!$A$3,"CBSA",B75,"RUG",A75),D75) -> 0 | F75: =IFERROR(IF(D75=0,0,VLOOKUP(EdRates!C75,'RUG Rates'!C:F,5,FALSE)),0) -> 0 | G75: =IFERROR(IF(D75=0,"",(F75-D75)/F75),"")
A76: CE1 | B76: 36260 | C76: =A76&B76 -> CE136260 | D76: 0 | E76: =IFERROR(GETPIVOTDATA("Min of CalcRate",PivotSingleRUG!$A$3,"CBSA",B76,"RUG",A76),D76) -> 0 | F76: =IFERROR(IF(D76=0,0,VLOOKUP(EdRates!C76,'RUG Rates'!C:F,5,FALSE)),0) -> 0 | G76: =IFERROR(IF(D76=0,"",(F76-D76)/F76),"")
A77: CE1 | B77: 39340 | C77: =A77&B77 -> CE139340 | D77: 0 | E77: =IFERROR(GETPIVOTDATA("Min of CalcRate",PivotSingleRUG!$A$3,"CBSA",B77,"RUG",A77),D77) -> 0 | F77: =IFERROR(IF(D77=0,0,VLOOKUP(EdRates!C77,'RUG Rates'!C:F,5,FALSE)),0) -> 0 | G77: =IFERROR(IF(D77=0,"",(F77-D77)/F77),"")
A78: CE1 | B78: 41100 | C78: =A78&B78 -> CE141100 | D78: 0 | E78: =IFERROR(GETPIVOTDATA("Min of CalcRate",PivotSingleRUG!$A$3,"CBSA",B78,"RUG",A78),D78) -> 0 | F78: =IFERROR(IF(D78=0,0,VLOOKUP(EdRates!C78,'RUG Rates'!C:F,5,FALSE)),0) -> 0 | G78: =IFERROR(IF(D78=0,"",(F78-D78)/F78),"")
A79: CE1 | B79: 41620 | C79: =A79&B79 -> CE141620 | D79: 426.07 | E79: =IFERROR(GETPIVOTDATA("Min of CalcRate",PivotSingleRUG!$A$3,"CBSA",B79,"RUG",A79),D79) -> 426.07 | F79: =IFERROR(IF(D79=0,0,VLOOKUP(EdRates!C79,'RUG Rates'!C:F,5,FALSE)),0) -> 0 | G79: =IFERROR(IF(D79=0,"",(F79-D79)/F79),"")
... A397: RVX | B397: 41620 | C397: =A397&B397 -> RVX41620 | D397: 0 | E397: =IFERROR(GETPIVOTDATA("Min of CalcRate",PivotSingleRUG!$A$3,"CBSA",B397,"RUG",A397),D397) -> 0 | F397: =IFERROR(IF(D397=0,0,VLOOKUP(EdRates!C397,'RUG Rates'!C:F,5,FALSE)),0) -> 0 | G397: =IFERROR(IF(D397=0,"",(F397-D397)/F397),"")

Sheet tblResults
A1: NPI | B1: CBSA | C1: RecipientID | D1: TotalDays | E1: MedicareTotal | F1: Days | G1: RUG | H1: AssessmentID | I1: CalcRate | J1: Order | K1: SingleLines
A2: 1013452481 | B2: 41100 | C2: 0200304411 | D2: 365 | E2: 132794.52 | F2: 82 | G2: RMA | H2: 248875793 | I2: 363.82 | J2: 1 | K2: =IF(A2&C2 = A1&C1,0,IF(A2&C2 = A3&C3,0,1)) -> 0
A3: 1013452481 | B3: 41100 | C3: 0200304411 | D3: 365 | E3: 132794.52 | F3: 55 | G3: RMA | H3: 256011694 | I3: 363.82 | J3: 2 | K3: =IF(A3&C3 = A2&C2,0,IF(A3&C3 = A4&C4,0,1)) -> 0
A4: 1013452481 | B4: 41100 | C4: 0200304411 | D4: 365 | E4: 132794.52 | F4: 41 | G4: RMA | H4: 302816460 | I4: 363.82 | J4: 3 | K4: =IF(A4&C4 = A3&C3,0,IF(A4&C4 = A5&C5,0,1)) -> 0
A5: 1013452481 | B5: 41100 | C5: 0200304411 | D5: 365 | E5: 132794.52 | F5: 92 | G5: RMA | H5: 302816460 | I5: 363.82 | J5: 4 | K5: =IF(A5&C5 = A4&C4,0,IF(A5&C5 = A6&C6,0,1)) -> 0
A6: 1013452481 | B6: 41100 | C6: 0200304411 | D6: 365 | E6: 132794.52 | F6: 92 | G6: RMA | H6: 253473832 | I6: 363.82 | J6: 5 | K6: =IF(A6&C6 = A5&C5,0,IF(A6&C6 = A7&C7,0,1)) -> 0
A7: 1013452481 | B7: 41100 | C7: 0200304411 | D7: 365 | E7: 132794.52 | F7: 3 | G7: PA1 | H7: 256185499 | I7: 363.82 | J7: 6 | K7: =IF(A7&C7 = A6&C6,0,IF(A7&C7 = A8&C8,0,1)) -> 0
A8: 1013452481 | B8: 41100 | C8: 0203848056 | D8: 80 | E8: 29189.27 | F8: 66 | G8: RMA | H8: 302386434 | I8: 364.87 | J8: 7 | K8: =IF(A8&C8 = A7&C7,0,IF(A8&C8 = A9&C9,0,1)) -> 0
A9: 1013452481 | B9: 41100 | C9: 0203848056 | D9: 80 | E9: 29189.27 | F9: 14 | G9: RMA | H9: 302386434 | I9: 364.87 | J9: 8 | K9: =IF(A9&C9 = A8&C8,0,IF(A9&C9 = A10&C10,0,1)) -> 0
A10: 1013452481 | B10: 41100 | C10: 0210047891 | D10: 365 | E10: 128724.86 | F10: 35 | G10: PA1 | H10: 306515951 | I10: 352.67 | J10: 9 | K10: =IF(A10&C10 = A9&C9,0,IF(A10&C10 = A11&C11,0,1)) -> 0
A11: 1013452481 | B11: 41100 | C11: 0210047891 | D11: 365 | E11: 128724.86 | F11: 0 | G11: PA1 | H11: 308441310 | I11: 352.67 | J11: 10 | K11: =IF(A11&C11 = A10&C10,0,IF(A11&C11 = A12&C12,0,1)) -> 0
A12: 1013452481 | B12: 41100 | C12: 0210047891 | D12: 365 | E12: 128724.86 | F12: 50 | G12: RMA | H12: 302964688 | I12: 352.67 | J12: 11 | K12: =IF(A12&C12 = A11&C11,0,IF(A12&C12 = A13&C13,0,1)) -> 0
A13: 1013452481 | B13: 41100 | C13: 0210047891 | D13: 365 | E13: 128724.86 | F13: 280 | G13: RMA | H13: 300467169 | I13: 352.67 | J13: 12 | K13: =IF(A13&C13 = A12&C12,0,IF(A13&C13 = A14&C14,0,1)) -> 0
... A21466: 1992196646 | B21466: 41100 | C21466: 0913114930 | D21466: 7 | E21466: 4777.15 | F21466: 8 | G21466: RHL | H21466: 250472014 | I21466: 682.45 | J21466: 21465 | K21466: =IF(A21466&C21466 = A21465&C21465,0,IF(A21466&C21466 = A21467&C21467,0,1)) -> 0

Sheet PivotSingleRUG
A3: RUG | B3: CBSA | C3: Min of CalcRate | D3: Max of CalcRate
A4: BA1 | B4: 41620 | C4: 701.89 | D4: 701.89
A5: BB1 | B5: 41620 | C5: 472.38 | D5: 472.38
A6: CA1 | B6: 41620 | C6: 364.86 | D6: 364.87
A7: CA2 | B7: 41620 | C7: 616.42 | D7: 616.42
A8: CB1 | B8: 41620 | C8: 459.28 | D8: 459.28
A9: CB2 | B9: 41620 | C9: 295.94 | D9: 295.94
A10: CC1 | B10: 41620 | C10: 765.16 | D10: 765.16
A11: CC2 | B11: 41620 | C11: 682.45 | D11: 682.45
A12: CD1 | B12: 41620 | C12: 537.72 | D12: 537.72
A13: CD2 | B13: 41620 | C13: 483.96 | D13: 483.96
A14: CE1 | B14: 41620 | C14: 426.07 | D14: 426.07
A15: ES1 | B15: 41620 | C15: 361.75 | D15: 361.75
... A45: RVL | B45: 41620 | C45: 326.6 | D45: 326.6

Sheet SingleRUG
A1: NPI | B1: CBSA | C1: RecipientID | D1: TotalDays | E1: MedicareTotal | F1: Days | G1: RUG | H1: AssessmentID | I1: CalcRate | J1: Order | K1: SingleLines
A2: 1013452481 | B2: 41100 | C2: 0613024166 | D2: 2 | E2: 475.38 | F2: 2 | G2: PA1 | H2: 306516067 | I2: 237.69 | J2: 248 | K2: 1
A3: 1023480225 | B3: 41620 | C3: 0400042543 | D3: 12 | E3: 4378.38 | F3: 12 | G3: CA1 | H3: 304664958 | I3: 364.87 | J3: 519 | K3: 1
A4: 1023480225 | B4: 41620 | C4: 0801824420 | D4: 5 | E4: 3028.64 | F4: 5 | G4: RVA | H4: 304664989 | I4: 605.73 | J4: 662 | K4: 1
A5: 1053318881 | B5: 41620 | C5: 0206320311 | D5: 55 | E5: 23990.03 | F5: 55 | G5: RVC | H5: 249473453 | I5: 436.18 | J5: 826 | K5: 1
A6: 1053318881 | B6: 41620 | C6: 0211121491 | D6: 4 | E6: 2137.53 | F6: 4 | G6: PB2 | H6: 245911340 | I6: 534.38 | J6: 827 | K6: 1
A7: 1053318881 | B7: 41620 | C7: 0300208827 | D7: 81 | E7: 75180.29 | F7: 81 | G7: PD1 | H7: 250623428 | I7: 928.15 | J7: 851 | K7: 1
A8: 1053318881 | B8: 41620 | C8: 0300519890 | D8: 15 | E8: 7984.74 | F8: 15 | G8: PC1 | H8: 245687463 | I8: 532.32 | J8: 855 | K8: 1
A9: 1053318881 | B9: 41620 | C9: 0300663010 | D9: 7 | E9: 4240.1 | F9: 7 | G9: RVA | H9: 253143774 | I9: 605.73 | J9: 862 | K9: 1
A10: 1053318881 | B10: 41620 | C10: 0310724718 | D10: 7 | E10: 4746.67 | F10: 7 | G10: RHC | H10: 253430275 | I10: 678.1 | J10: 900 | K10: 1
A11: 1053318881 | B11: 41620 | C11: 0311182099 | D11: 4 | E11: 1943.22 | F11: 4 | G11: ES3 | H11: 246641447 | I11: 485.81 | J11: 901 | K11: 1
A12: 1053318881 | B12: 41620 | C12: 0313141950 | D12: 7 | E12: 2286.18 | F12: 7 | G12: RVL | H12: 247308555 | I12: 326.6 | J12: 914 | K12: 1
A13: 1053318881 | B13: 41620 | C13: 0411886298 | D13: 7 | E13: 2546.71 | F13: 7 | G13: RML | H13: 250131163 | I13: 363.82 | J13: 956 | K13: 1
... A252: 1992196646 | B252: 41100 | C252: 0413198089 | D252: 3 | E252: 1283.74 | F252: 3 | G252: HB1 | H252: 251312131 | I252: 427.91 | J252: 21443 | K252: 1
